BEGIN:VCALENDAR
VERSION:2.0
PRODID:-//IndyGo - ECPv6.15.20//NONSGML v1.0//EN
CALSCALE:GREGORIAN
METHOD:PUBLISH
X-WR-CALNAME:IndyGo
X-ORIGINAL-URL:https://www.indygo.net
X-WR-CALDESC:Events for IndyGo
REFRESH-INTERVAL;VALUE=DURATION:PT1H
X-Robots-Tag:noindex
X-PUBLISHED-TTL:PT1H
BEGIN:VTIMEZONE
TZID:America/Indiana/Indianapolis
BEGIN:DAYLIGHT
TZOFFSETFROM:-0500
TZOFFSETTO:-0400
TZNAME:EDT
DTSTART:20240310T070000
END:DAYLIGHT
BEGIN:STANDARD
TZOFFSETFROM:-0400
TZOFFSETTO:-0500
TZNAME:EST
DTSTART:20241103T060000
END:STANDARD
BEGIN:DAYLIGHT
TZOFFSETFROM:-0500
TZOFFSETTO:-0400
TZNAME:EDT
DTSTART:20250309T070000
END:DAYLIGHT
BEGIN:STANDARD
TZOFFSETFROM:-0400
TZOFFSETTO:-0500
TZNAME:EST
DTSTART:20251102T060000
END:STANDARD
BEGIN:DAYLIGHT
TZOFFSETFROM:-0500
TZOFFSETTO:-0400
TZNAME:EDT
DTSTART:20260308T070000
END:DAYLIGHT
BEGIN:STANDARD
TZOFFSETFROM:-0400
TZOFFSETTO:-0500
TZNAME:EST
DTSTART:20261101T060000
END:STANDARD
END:VTIMEZONE
BEGIN:VEVENT
DTSTART;TZID=America/Indiana/Indianapolis:20250210T120000
DTEND;TZID=America/Indiana/Indianapolis:20250210T140000
DTSTAMP:20260419T134449
CREATED:20250129T203221Z
LAST-MODIFIED:20251008T172656Z
UID:10000282-1739188800-1739196000@www.indygo.net
SUMMARY:Blue Line Construction Public Meeting
DESCRIPTION:This meeting will allow IndyGo representatives to provide updates on construction planning\, discuss the anticipated construction timeline and traffic impacts and answer questions. It will follow an open house format\, allowing residents to talk with the project team and ask questions. Maps showing anticipated bus route impacts and traffic detour information will also be provided to attendees.
URL:https://www.indygo.net/event/blue-line-construction-public-meeting/
LOCATION:Ball State University CAP: INDY | 25 N. Pine St.
END:VEVENT
BEGIN:VEVENT
DTSTART;TZID=America/Indiana/Indianapolis:20250210T170000
DTEND;TZID=America/Indiana/Indianapolis:20250210T190000
DTSTAMP:20260419T134449
CREATED:20250129T203321Z
LAST-MODIFIED:20251008T172646Z
UID:10000283-1739206800-1739214000@www.indygo.net
SUMMARY:Blue Line Construction Public Meeting
DESCRIPTION:This meeting will allow IndyGo representatives to provide updates on construction planning\, discuss the anticipated construction timeline and traffic impacts and answer questions. It will follow an open house format\, allowing residents to talk with the project team and ask questions. Maps showing anticipated bus route impacts and traffic detour information will also be provided to attendees.
URL:https://www.indygo.net/event/blue-line-construction-public-meeting-2/
LOCATION:Ball State University CAP: INDY | 25 N. Pine St.
END:VEVENT
END:VCALENDAR