BEGIN:VCALENDAR
VERSION:2.0
PRODID:-//IndyGo - ECPv6.15.20//NONSGML v1.0//EN
CALSCALE:GREGORIAN
METHOD:PUBLISH
X-ORIGINAL-URL:https://www.indygo.net
X-WR-CALDESC:Events for IndyGo
REFRESH-INTERVAL;VALUE=DURATION:PT1H
X-Robots-Tag:noindex
X-PUBLISHED-TTL:PT1H
BEGIN:VTIMEZONE
TZID:America/Indiana/Indianapolis
BEGIN:DAYLIGHT
TZOFFSETFROM:-0500
TZOFFSETTO:-0400
TZNAME:EDT
DTSTART:20190310T070000
END:DAYLIGHT
BEGIN:STANDARD
TZOFFSETFROM:-0400
TZOFFSETTO:-0500
TZNAME:EST
DTSTART:20191103T060000
END:STANDARD
BEGIN:DAYLIGHT
TZOFFSETFROM:-0500
TZOFFSETTO:-0400
TZNAME:EDT
DTSTART:20200308T070000
END:DAYLIGHT
BEGIN:STANDARD
TZOFFSETFROM:-0400
TZOFFSETTO:-0500
TZNAME:EST
DTSTART:20201101T060000
END:STANDARD
BEGIN:DAYLIGHT
TZOFFSETFROM:-0500
TZOFFSETTO:-0400
TZNAME:EDT
DTSTART:20210314T070000
END:DAYLIGHT
BEGIN:STANDARD
TZOFFSETFROM:-0400
TZOFFSETTO:-0500
TZNAME:EST
DTSTART:20211107T060000
END:STANDARD
END:VTIMEZONE
BEGIN:VEVENT
DTSTART;TZID=America/Indiana/Indianapolis:20200213T173000
DTEND;TZID=America/Indiana/Indianapolis:20200213T190000
DTSTAMP:20260421T115842
CREATED:20200131T000520Z
LAST-MODIFIED:20200131T000520Z
UID:10000152-1581615000-1581620400@www.indygo.net
SUMMARY:Open House: Purple Line
DESCRIPTION:The 14.8-mile Purple Line will connect the City of Indianapolis and the City of Lawrence. For much of the corridor\, the Purple Line will replace and improve our existing Route 39 local service\, already the most productive route in the IndyGo system. \n\n\n \n\n\nPlease join IndyGo on February 13th at 5:30 pm for an update on the Purple Line with Q&A afterward. If you are unable to attend this meeting\, please direct questions to customer service at 317.635.3344. You can also sign up for our newsletter by going to www.indygo.net at the bottom of the page.
URL:https://www.indygo.net/event/open-house-purple-line/
LOCATION:IN\, United States
END:VEVENT
BEGIN:VEVENT
DTSTART;TZID=America/Indiana/Indianapolis:20200218T173000
DTEND;TZID=America/Indiana/Indianapolis:20200218T190000
DTSTAMP:20260421T115842
CREATED:20200130T224304Z
LAST-MODIFIED:20200130T224304Z
UID:10000151-1582047000-1582052400@www.indygo.net
SUMMARY:Final Public Hearing: 2020 Proposed Route Changes
DESCRIPTION:With the implementation of the Marion County Transit Plan\, IndyGo is transitioning to a grid-based network\, adding three rapid transit lines\, and improving its local bus service. \nAs part of this transition\, IndyGo staff is evaluating major route changes in June 2020 which will allow more transfer options within the network and expansion to service. IndyGo hosted six public listening sessions and will have a final hearing to accept public comment. \nLearn and provide feedback about the 2020 proposed route changes to our network as we work together to build better mobility options in Indianapolis.  If you cannot make it to the final hearing\, you may learn and provide feedback online at https://www.indygo.net/june2020/\, fill out a comment card at the Carson Transit Center retail desk\, or contact customer service at 317.635.3344. \nIndyGo Final Hearing for 2020 Proposed Route Changes\n \nLocation: IndyGo Boardroom\n1501 West Washington Street Indianapolis\, IN 46222\nDate: Tuesday\, February 18\,2020\nTime: 5:30pm
URL:https://www.indygo.net/event/final-public-hearing-2020-proposed-route-changes/
LOCATION:IndyGo Headquarters\, 1501 W Washington St\, Indianapolis\, 462222\, United States
END:VEVENT
END:VCALENDAR