BEGIN:VCALENDAR
VERSION:2.0
PRODID:-//IndyGo - ECPv6.15.20//NONSGML v1.0//EN
CALSCALE:GREGORIAN
METHOD:PUBLISH
X-ORIGINAL-URL:https://www.indygo.net
X-WR-CALDESC:Events for IndyGo
REFRESH-INTERVAL;VALUE=DURATION:PT1H
X-Robots-Tag:noindex
X-PUBLISHED-TTL:PT1H
BEGIN:VTIMEZONE
TZID:America/Indiana/Indianapolis
BEGIN:DAYLIGHT
TZOFFSETFROM:-0500
TZOFFSETTO:-0400
TZNAME:EDT
DTSTART:20220313T070000
END:DAYLIGHT
BEGIN:STANDARD
TZOFFSETFROM:-0400
TZOFFSETTO:-0500
TZNAME:EST
DTSTART:20221106T060000
END:STANDARD
BEGIN:DAYLIGHT
TZOFFSETFROM:-0500
TZOFFSETTO:-0400
TZNAME:EDT
DTSTART:20230312T070000
END:DAYLIGHT
BEGIN:STANDARD
TZOFFSETFROM:-0400
TZOFFSETTO:-0500
TZNAME:EST
DTSTART:20231105T060000
END:STANDARD
BEGIN:DAYLIGHT
TZOFFSETFROM:-0500
TZOFFSETTO:-0400
TZNAME:EDT
DTSTART:20240310T070000
END:DAYLIGHT
BEGIN:STANDARD
TZOFFSETFROM:-0400
TZOFFSETTO:-0500
TZNAME:EST
DTSTART:20241103T060000
END:STANDARD
END:VTIMEZONE
BEGIN:VEVENT
DTSTART;TZID=America/Indiana/Indianapolis:20230207T100000
DTEND;TZID=America/Indiana/Indianapolis:20230207T130000
DTSTAMP:20260421T163744
CREATED:20230203T001824Z
LAST-MODIFIED:20230203T001824Z
UID:10000207-1675764000-1675774800@www.indygo.net
SUMMARY:Purple Line Transit Talk: East 38th Street Library
DESCRIPTION:IndyGo representatives will share construction impacts and tools available to the community to help them thrive during construction.
URL:https://www.indygo.net/event/purple-line-transit-talk-east-38th-street-library/
LOCATION:IN\, United States
CATEGORIES:Purple Line
END:VEVENT
BEGIN:VEVENT
DTSTART;TZID=America/Indiana/Indianapolis:20230215T180000
DTEND;TZID=America/Indiana/Indianapolis:20230215T180000
DTSTAMP:20260421T163744
CREATED:20230201T233129Z
LAST-MODIFIED:20230201T233129Z
UID:10000203-1676484000-1676484000@www.indygo.net
SUMMARY:Virtual Purple Line Town Hall
DESCRIPTION:IndyGo in partnership with the United Northeast Community Development Corporation (UNEC) will host a virtual informational meeting regarding the Purple Line rapid transit on Wednesday\, Feb. 15\, at 6 p.m. The project is nearly one year into construction. Learn about the progress made and what to expect in 2023\, including the next major closure on 38th Street from Emerson to Shadeland avenues.
URL:https://www.indygo.net/event/virtual-purple-line-town-hall/
LOCATION:Virtual Via Zoom
CATEGORIES:Purple Line
END:VEVENT
BEGIN:VEVENT
DTSTART;TZID=America/Indiana/Indianapolis:20230216T120000
DTEND;TZID=America/Indiana/Indianapolis:20230216T140000
DTSTAMP:20260421T163744
CREATED:20230201T233342Z
LAST-MODIFIED:20230201T233342Z
UID:10000204-1676548800-1676556000@www.indygo.net
SUMMARY:Purple Line Open House: New Direction Church
DESCRIPTION:IndyGo representatives will share upcoming construction impacts and tools available to the community to help them thrive during construction. Learn more here.
URL:https://www.indygo.net/event/purple-line-open-house-new-direction-church/
LOCATION:New Direction Church\, 5330 E 38th Street\, Indianapolis\, IN 46218\, 5330 E 38th Street\, Indianapolis\, 46218\, United States
CATEGORIES:Purple Line
END:VEVENT
BEGIN:VEVENT
DTSTART;TZID=America/Indiana/Indianapolis:20230216T170000
DTEND;TZID=America/Indiana/Indianapolis:20230216T190000
DTSTAMP:20260421T163744
CREATED:20230201T233449Z
LAST-MODIFIED:20230201T233449Z
UID:10000205-1676566800-1676574000@www.indygo.net
SUMMARY:Purple Line Open House: New Direction Church
DESCRIPTION:IndyGo representatives will share upcoming construction impacts and tools available to the community to help them thrive during construction. Learn more here.
URL:https://www.indygo.net/event/purple-line-open-house-new-direction-church-2/
LOCATION:New Direction Church\, 5330 E 38th Street\, Indianapolis\, IN 46218\, 5330 E 38th Street\, Indianapolis\, 46218\, United States
CATEGORIES:Purple Line
END:VEVENT
BEGIN:VEVENT
DTSTART;TZID=America/Indiana/Indianapolis:20230218T120000
DTEND;TZID=America/Indiana/Indianapolis:20230218T140000
DTSTAMP:20260421T163744
CREATED:20230201T233606Z
LAST-MODIFIED:20230201T233606Z
UID:10000206-1676721600-1676728800@www.indygo.net
SUMMARY:Purple Line Pop-up and Food Pantry Drive-thru: New Direction Church
DESCRIPTION:IndyGo representatives will share upcoming construction impacts and tools available to the community to help them thrive during construction. Learn more here.
URL:https://www.indygo.net/event/purple-line-pop-up-and-food-pantry-drive-thru-new-direction-church/
LOCATION:New Direction Church\, 5330 E 38th Street\, Indianapolis\, IN 46218\, 5330 E 38th Street\, Indianapolis\, 46218\, United States
CATEGORIES:Purple Line
END:VEVENT
BEGIN:VEVENT
DTSTART;TZID=America/Indiana/Indianapolis:20230221T100000
DTEND;TZID=America/Indiana/Indianapolis:20230221T130000
DTSTAMP:20260421T163744
CREATED:20230203T001955Z
LAST-MODIFIED:20230203T001955Z
UID:10000208-1676973600-1676984400@www.indygo.net
SUMMARY:Purple Line Transit Talk: East 38th Street Library
DESCRIPTION:IndyGo representatives will share upcoming construction impacts and tools available to the community to help them thrive during construction.
URL:https://www.indygo.net/event/purple-line-transit-talk-east-38th-street-library-2/
LOCATION:IN\, United States
CATEGORIES:Purple Line
END:VEVENT
END:VCALENDAR