BEGIN:VCALENDAR
VERSION:2.0
PRODID:-//IndyGo - ECPv6.15.20//NONSGML v1.0//EN
CALSCALE:GREGORIAN
METHOD:PUBLISH
X-ORIGINAL-URL:https://www.indygo.net
X-WR-CALDESC:Events for IndyGo
REFRESH-INTERVAL;VALUE=DURATION:PT1H
X-Robots-Tag:noindex
X-PUBLISHED-TTL:PT1H
BEGIN:VTIMEZONE
TZID:America/Indiana/Indianapolis
BEGIN:DAYLIGHT
TZOFFSETFROM:-0500
TZOFFSETTO:-0400
TZNAME:EDT
DTSTART:20210314T070000
END:DAYLIGHT
BEGIN:STANDARD
TZOFFSETFROM:-0400
TZOFFSETTO:-0500
TZNAME:EST
DTSTART:20211107T060000
END:STANDARD
BEGIN:DAYLIGHT
TZOFFSETFROM:-0500
TZOFFSETTO:-0400
TZNAME:EDT
DTSTART:20220313T070000
END:DAYLIGHT
BEGIN:STANDARD
TZOFFSETFROM:-0400
TZOFFSETTO:-0500
TZNAME:EST
DTSTART:20221106T060000
END:STANDARD
BEGIN:DAYLIGHT
TZOFFSETFROM:-0500
TZOFFSETTO:-0400
TZNAME:EDT
DTSTART:20230312T070000
END:DAYLIGHT
BEGIN:STANDARD
TZOFFSETFROM:-0400
TZOFFSETTO:-0500
TZNAME:EST
DTSTART:20231105T060000
END:STANDARD
END:VTIMEZONE
BEGIN:VEVENT
DTSTART;TZID=America/Indiana/Indianapolis:20220321T170000
DTEND;TZID=America/Indiana/Indianapolis:20220321T190000
DTSTAMP:20260420T152733
CREATED:20220317T002819Z
LAST-MODIFIED:20220317T002819Z
UID:10000175-1647882000-1647889200@www.indygo.net
SUMMARY:Purple Line Open House
DESCRIPTION:IndyGo will host a Lawrence open house to prepare the public for Purple Line construction closures in Lawrence\, Indiana. This open house will take place Monday\, March 21\, from 5-7 p.m.\, at the Ivy Tech Community College – Lawerence Campus. Riders can access the open house by taking Route 4 and are encouraged to plan their trips using Google Maps\, the Transit app or our trip planner here on our website.
URL:https://www.indygo.net/event/purple-line-open-house-7/
LOCATION:Ivy Tech Community College – Lawrence Campus\, 9301 E. 59th Street\, Indianapolis\, 46216
CATEGORIES:Purple Line
ATTACH;FMTTYPE=image/jpeg:https://www.indygo.net/wp-content/uploads/2024/12/Ivy-Tech-Station-Rendering-2.jpg
END:VEVENT
END:VCALENDAR