BEGIN:VCALENDAR
VERSION:2.0
PRODID:-//IndyGo - ECPv6.15.20//NONSGML v1.0//EN
CALSCALE:GREGORIAN
METHOD:PUBLISH
X-ORIGINAL-URL:https://www.indygo.net
X-WR-CALDESC:Events for IndyGo
REFRESH-INTERVAL;VALUE=DURATION:PT1H
X-Robots-Tag:noindex
X-PUBLISHED-TTL:PT1H
BEGIN:VTIMEZONE
TZID:America/Indiana/Indianapolis
BEGIN:DAYLIGHT
TZOFFSETFROM:-0500
TZOFFSETTO:-0400
TZNAME:EDT
DTSTART:20220313T070000
END:DAYLIGHT
BEGIN:STANDARD
TZOFFSETFROM:-0400
TZOFFSETTO:-0500
TZNAME:EST
DTSTART:20221106T060000
END:STANDARD
BEGIN:DAYLIGHT
TZOFFSETFROM:-0500
TZOFFSETTO:-0400
TZNAME:EDT
DTSTART:20230312T070000
END:DAYLIGHT
BEGIN:STANDARD
TZOFFSETFROM:-0400
TZOFFSETTO:-0500
TZNAME:EST
DTSTART:20231105T060000
END:STANDARD
BEGIN:DAYLIGHT
TZOFFSETFROM:-0500
TZOFFSETTO:-0400
TZNAME:EDT
DTSTART:20240310T070000
END:DAYLIGHT
BEGIN:STANDARD
TZOFFSETFROM:-0400
TZOFFSETTO:-0500
TZNAME:EST
DTSTART:20241103T060000
END:STANDARD
END:VTIMEZONE
BEGIN:VEVENT
DTSTART;TZID=America/Indiana/Indianapolis:20231206T170000
DTEND;TZID=America/Indiana/Indianapolis:20231206T190000
DTSTAMP:20260423T175125
CREATED:20231120T230217Z
LAST-MODIFIED:20251008T173112Z
UID:10000258-1701882000-1701889200@www.indygo.net
SUMMARY:Blue Line Public Meeting
DESCRIPTION:As the Blue Line bus rapid transit (BRT) route nears design completion\, IndyGo plans to solicit community feedback through a series of in-person public meetings Dec. 5-7.     \nThe meetings will be structured like open houses and will not include a formal presentation. However\, they will include a project display area and time for individuals to have direct conversations with IndyGo staff about the project.   \nThrough these meetings\, IndyGo is seeking feedback on how to better understand business and residential property access and ways to reduce the overall impacts during construction. 
URL:https://www.indygo.net/event/blue-line-public-meeting-9/
LOCATION:People for Urban Progress | 160 Steeples Blvd.
END:VEVENT
BEGIN:VEVENT
DTSTART;TZID=America/Indiana/Indianapolis:20231206T120000
DTEND;TZID=America/Indiana/Indianapolis:20231206T140000
DTSTAMP:20260423T175125
CREATED:20231120T225953Z
LAST-MODIFIED:20251008T173057Z
UID:10000257-1701864000-1701871200@www.indygo.net
SUMMARY:Blue Line Public Meeting
DESCRIPTION:As the Blue Line bus rapid transit (BRT) route nears design completion\, IndyGo plans to solicit community feedback through a series of in-person public meetings Dec. 5-7.     \nThe meetings will be structured like open houses and will not include a formal presentation. However\, they will include a project display area and time for individuals to have direct conversations with IndyGo staff about the project.   \nThrough these meetings\, IndyGo is seeking feedback on how to better understand business and residential property access and ways to reduce the overall impacts during construction. 
URL:https://www.indygo.net/event/blue-line-public-meeting-8/
LOCATION:People for Urban Progress | 160 Steeples Blvd.
END:VEVENT
END:VCALENDAR